BEGIN:VCALENDAR
VERSION:2.0
PRODID:-//NADI Taman Samudera - ECPv6.15.20//NONSGML v1.0//EN
CALSCALE:GREGORIAN
METHOD:PUBLISH
X-WR-CALNAME:NADI Taman Samudera
X-ORIGINAL-URL:https://tmnsamudera.nadi.my
X-WR-CALDESC:Events for NADI Taman Samudera
REFRESH-INTERVAL;VALUE=DURATION:PT1H
X-Robots-Tag:noindex
X-PUBLISHED-TTL:PT1H
BEGIN:VTIMEZONE
TZID:UTC
BEGIN:STANDARD
TZOFFSETFROM:+0000
TZOFFSETTO:+0000
TZNAME:UTC
DTSTART:20230101T000000
END:STANDARD
END:VTIMEZONE
BEGIN:VEVENT
DTSTART;TZID=UTC:20240801T080000
DTEND;TZID=UTC:20240830T170000
DTSTAMP:20260425T024044
CREATED:20240801T165203Z
LAST-MODIFIED:20240801T165203Z
UID:3534-1722499200-1725037200@tmnsamudera.nadi.my
SUMMARY:Jadual Aktiviti Bulan Ogos 2024
DESCRIPTION:Jadual Aktiviti Bulan Ogos 2024 NADI Taman Samudera \n \nJangan lepaskan peluang untuk join dan meriahkan semua aktiviti yang kami sediakan.
URL:https://tmnsamudera.nadi.my/event/jadual-aktiviti-bulan-ogos-2024/
LOCATION:NADI Taman Samudera\, NADI Taman Samudera
CATEGORIES:DEFAULT
ATTACH;FMTTYPE=image/png:https://tmnsamudera.nadi.my/wp-content/uploads/2024/08/Ogos.png
END:VEVENT
END:VCALENDAR