BEGIN:VCALENDAR
VERSION:2.0
PRODID:-//NADI Taman Samudera - ECPv6.15.20//NONSGML v1.0//EN
CALSCALE:GREGORIAN
METHOD:PUBLISH
X-WR-CALNAME:NADI Taman Samudera
X-ORIGINAL-URL:https://tmnsamudera.nadi.my
X-WR-CALDESC:Events for NADI Taman Samudera
REFRESH-INTERVAL;VALUE=DURATION:PT1H
X-Robots-Tag:noindex
X-PUBLISHED-TTL:PT1H
BEGIN:VTIMEZONE
TZID:UTC
BEGIN:STANDARD
TZOFFSETFROM:+0000
TZOFFSETTO:+0000
TZNAME:UTC
DTSTART:20230101T000000
END:STANDARD
END:VTIMEZONE
BEGIN:VEVENT
DTSTART;TZID=UTC:20240701T080000
DTEND;TZID=UTC:20240730T170000
DTSTAMP:20260425T214741
CREATED:20240706T110613Z
LAST-MODIFIED:20240706T110613Z
UID:3533-1719820800-1722358800@tmnsamudera.nadi.my
SUMMARY:Jadual Aktiviti Bulan Julai 2024
DESCRIPTION:Jadual Aktiviti Bulan Julai 2024 NADI Taman Samudera.
URL:https://tmnsamudera.nadi.my/event/jadual-aktiviti-bulan-julai-2024/
LOCATION:NADI Taman Samudera\, NADI Taman Samudera
CATEGORIES:DEFAULT
ATTACH;FMTTYPE=image/png:https://tmnsamudera.nadi.my/wp-content/uploads/2024/07/Julai24.png
END:VEVENT
END:VCALENDAR